BEGIN:VCALENDAR
VERSION:2.0
PRODID:-//Offene Kreativ-Werkstatt - ECPv6.7.0//NONSGML v1.0//EN
CALSCALE:GREGORIAN
METHOD:PUBLISH
X-WR-CALNAME:Offene Kreativ-Werkstatt
X-ORIGINAL-URL:https://offene-werkstatt.org
X-WR-CALDESC:Veranstaltungen für Offene Kreativ-Werkstatt
REFRESH-INTERVAL;VALUE=DURATION:PT1H
X-Robots-Tag:noindex
X-PUBLISHED-TTL:PT1H
BEGIN:VTIMEZONE
TZID:Europe/Berlin
BEGIN:DAYLIGHT
TZOFFSETFROM:+0100
TZOFFSETTO:+0200
TZNAME:CEST
DTSTART:20240331T010000
END:DAYLIGHT
BEGIN:STANDARD
TZOFFSETFROM:+0200
TZOFFSETTO:+0100
TZNAME:CET
DTSTART:20241027T010000
END:STANDARD
END:VTIMEZONE
BEGIN:VEVENT
DTSTART;TZID=Europe/Berlin:20241021T100000
DTEND;TZID=Europe/Berlin:20241021T160000
DTSTAMP:20260423T122500
CREATED:20240701T143346Z
LAST-MODIFIED:20240701T143346Z
UID:10649-1729504800-1729526400@offene-werkstatt.org
SUMMARY:Herbstkurs: Bienenfreunde
DESCRIPTION:8 bis 10 Jahren – 2 Tage\n \nSicher kennst du Bienen! Auch Wildbienen? \nWelche Wildbienen gibt es bei uns und wie erkennt man sie? Gemeinsam werden wir an zwei Tagen eine große Bienennisthilfe bauen und im Naturspielraum Altes Schwimmbad aufstellen. Auch die bodenbrütenden Bienen bekommen eine Nisthilfe und zum Schluss werden wir Saatbomben zum Mitnehmen herstellen\, um „Bienenbüffets“ zu säen. Zwischendrin ist Zeit für Spiel und Spaß im schönen Freigelände. \nOrt: Naturspielraum Altes Schwimmbad\, Bad Dürkheim \nBitte mitbringen: Alte\, wetterfeste Kleidung\, Picknick und Getränke
URL:https://offene-werkstatt.org/event/herbstkurs-bienenfreunde/
CATEGORIES:Herbstferien-Werkstätten,Kinder,Schulkinder
ATTACH;FMTTYPE=image/jpeg:https://offene-werkstatt.org/wp-content/uploads/2017/06/3598.jpg
END:VEVENT
BEGIN:VEVENT
DTSTART;TZID=Europe/Berlin:20241021T100000
DTEND;TZID=Europe/Berlin:20241021T170000
DTSTAMP:20260423T122500
CREATED:20240701T143051Z
LAST-MODIFIED:20240701T143051Z
UID:10651-1729504800-1729530000@offene-werkstatt.org
SUMMARY:Herbstkurs: Schwarzlicht-Theater - Das Spiel mit dem Unsichtbaren
DESCRIPTION:von 8 bis 13 Jahren – 5 Tage\n \nSchwarzlicht – oder ultra-violettes Licht – ist eine tolle Sache! Denn damit verschwinden fast alle Dinge – außer eben jenen\, die auf die UV- Wellen reagieren. Spezielle Farben und Stoffe tun genau das und damit könnt ihr in diesem Kurs Figuren bauen und euch verkleiden. \nMit wenig Textarbeit und jeder Menge Spaß entwickeln und spielen wir zusammen kleine Stücke. Bald ist Halloween und da darf es auch ruhig einmal etwas gruselig zugehen… oder auch lustig! Als Höhepunkt am Schluss laden wir ein zu einer Aufführung für Freunde:innen und Familie. Vorhang auf! \nBitte mitbringen: Essen und Trinken für den Tag\, bequeme Kleidung\, warme Socken oder Schläppchen
URL:https://offene-werkstatt.org/event/herbstkurs-schwarzlicht-theater-das-spiel-mit-dem-unsichtbaren-2/
CATEGORIES:Herbstferien-Werkstätten,Kinder,Schulkinder
ATTACH;FMTTYPE=image/jpeg:https://offene-werkstatt.org/wp-content/uploads/2018/06/Schwarzlicht-2.jpg
END:VEVENT
END:VCALENDAR