BEGIN:VCALENDAR
VERSION:2.0
PRODID:-//Offene Kreativ-Werkstatt - ECPv6.7.0//NONSGML v1.0//EN
CALSCALE:GREGORIAN
METHOD:PUBLISH
X-WR-CALNAME:Offene Kreativ-Werkstatt
X-ORIGINAL-URL:https://offene-werkstatt.org
X-WR-CALDESC:Veranstaltungen für Offene Kreativ-Werkstatt
REFRESH-INTERVAL;VALUE=DURATION:PT1H
X-Robots-Tag:noindex
X-PUBLISHED-TTL:PT1H
BEGIN:VTIMEZONE
TZID:Europe/Berlin
BEGIN:DAYLIGHT
TZOFFSETFROM:+0100
TZOFFSETTO:+0200
TZNAME:CEST
DTSTART:20260329T010000
END:DAYLIGHT
BEGIN:STANDARD
TZOFFSETFROM:+0200
TZOFFSETTO:+0100
TZNAME:CET
DTSTART:20261025T010000
END:STANDARD
END:VTIMEZONE
BEGIN:VEVENT
DTSTART;TZID=Europe/Berlin:20260421T150000
DTEND;TZID=Europe/Berlin:20260421T170000
DTSTAMP:20260421T120314
CREATED:20251208T140051Z
LAST-MODIFIED:20251208T140051Z
UID:11666-1776783600-1776790800@offene-werkstatt.org
SUMMARY:Wuselkurs: Die Zukunft gehört uns
DESCRIPTION:von 4 bis 6 Jahren ohne Erwachsene\n(Dieser Kurs und der Kurs am 20.04. sind inhaltsgleich.)\n \nAngeregt von Geschichten stellen wir uns Fragen: Was wünsche ich mir für die Zukunft? Wie kann Gemeinschaft gelingen? Was kann ich dazu beitragen? Unsere verrückten oder überraschenden Ideen werden wir mit Ton\, Holz\, Farben und vielem mehr kreativ gestalten. Nebenbei erwerben wir handwerkliches Geschick\, schulen das Durchhaltevermögen und stärken unser Selbstvertrauen – wichtige Eigenschaften für die Zukunft. Wie gewohnt stehen der Spaß am Werkeln und das Ausprobieren verschiedener Techniken im Mittelpunkt des Kurses. \nAls Gegenpol zu den neuen Reizen umschließt jeden Kurstermin ein Rahmen aus Anfangskreis\, gemeinsamer Pause\, Aufräumphase und Schlusskreis. \nDie Kurse werden andere Inhalte haben als vorherige Wusel-Werkstätten. \nBitte mitbringen: alte Bastelkleidung\, Imbiss für die gemeinsame Pause
URL:https://offene-werkstatt.org/event/wuselkurs-die-zukunft-gehoert-uns-15/
CATEGORIES:Kinder,Vorschulkinder
ATTACH;FMTTYPE=image/jpeg:https://offene-werkstatt.org/wp-content/uploads/2025/11/Boote.jpg
END:VEVENT
BEGIN:VEVENT
DTSTART;TZID=Europe/Berlin:20260421T160000
DTEND;TZID=Europe/Berlin:20260421T190000
DTSTAMP:20260421T120314
CREATED:20251208T071833Z
LAST-MODIFIED:20251208T071833Z
UID:11736-1776787200-1776798000@offene-werkstatt.org
SUMMARY:Schmuck aus Perlen und Draht
DESCRIPTION:ab 10 Jahren und Erwachsene \nAus Draht und Glasperlen lässt sich außergewöhnlicher Schmuck fertigen. Messing-\, Silber- und Kupferdraht\, Nylonfaden und Perlen aller Art verbinden wir zu einzigartigen Lieblingsstücken. Vielleicht edle\, filigrane Armbänder oder Ohrringe? Ein Armreif aus gehämmertem Draht oder Schmuck aus einer Kombination von Perlen und Draht? \nMit Zangen und unseren Händen biegen wir Draht in die gewünschte Form und bearbeiten die Oberfläche mit verschiedenen Techniken. Für den Kurs braucht man keine Vorkenntnisse\, sollte jedoch Geduld\, Ausdauer und Spaß am Ausprobieren mitbringen. Im kreativen Austausch mit den anderen Kursteilnehmern entstehen viele neue Ideen.
URL:https://offene-werkstatt.org/event/schmuck-aus-perlen-und-draht-3/
CATEGORIES:Erwachsene,Kinder,Metall - Stein - Holz - Glas,Schulkinder
ATTACH;FMTTYPE=image/jpeg:https://offene-werkstatt.org/wp-content/uploads/2025/04/Schmuck-aus-Draht-und-Perlen-25-II-scaled.jpg
END:VEVENT
BEGIN:VEVENT
DTSTART;TZID=Europe/Berlin:20260421T173000
DTEND;TZID=Europe/Berlin:20260421T210000
DTSTAMP:20260421T120314
CREATED:20251208T140447Z
LAST-MODIFIED:20251208T140447Z
UID:11635-1776792600-1776805200@offene-werkstatt.org
SUMMARY:Online-Kurs: Mixed Media Faces
DESCRIPTION:– für Anfänger:innen und Fortgeschrittene\n– in Kooperation mit der Gleichstellungsstelle des Landkreises Bad Dürkheim\n– in Kooperation mit den Volkshochschulen Ludwigshafen\, Neustadt/Wstr. und Rhein-Pfalz-Kreis \nHello – welcome to my mixed media world! \nIch liebe Gesichter – famous women faces – am liebsten kombiniert mit Mixed Media-Hintergründen und -Techniken. Eine Reise vom leeren Untergrund bis in eine fantastische Welt aus Farben\, Figuren und Formen – Schicht für Schicht ! \nWir verschaffen uns eine Übersicht über das vielfältige Material\, welches man für Mixed Media verwenden kann und erlernen Mixed Media-Techniken. Wir machen uns mit Stempeln vertraut\, kleben Collage-Elemente und lernen alles über die richtigen Papierschnipsel. \nBei der Erstellung eines Mixed Media-Gesichtes auf Papier oder Leinwand\, gestalten wir mit Gesso\, Acrylfarbe und Collage-Elementen. Wir skribbeln\, stempeln und sprayen\, fügen einzelne Elemente hinzu wie Blumen\, Muster\, wer mag auch Glitzer. Nach dem Zeichnen eines nicht realistischen Gesichtes mit einer einfachen Methode in Frontalansicht\, folgt die farbige Gestaltung und das Verbinden mit Schatten\, Kontrasten\, schwarzen und weißen „Doodles“ und anderen dekorativen Details. \nInspiration erhalten wir zusätzlich zum Beispiel durch den Stil der „Goldenen Zwanziger“\, in welchem das neu gefundene Selbstvertrauen der Frauen durch Mode und Accessoires zum Ausdruck gebracht wurde und der Bubikopf Einzug in Europa hielt. \nSowohl für den Mixed Media-Einstieg als auch für Anfänger*innen beim Gesichter-Zeichnen geeignet. \nFortgeschrittene bekommen viele detaillierte Tipps\, Techniken und Handwerkszeug\, um sich gezielt weiterentwickeln zu können. \nEs wird eine digitale Pinnwand (Padlet) geben\, über welche die Dozentin Ihre (Zwischen)Ergebnisse sehen kann\, was ihr die konstruktive Kritik\, den „Schulterblick“ ermöglicht. \nDieser Kurs findet in Zoom statt und der Zoom-Zugang erfolgt über einen Direktlink. Eine Anmeldung setzt Ihr Einverständnis der Zoom-Nutzungsbedingungen voraus. \nBitte bereithalten:\nPapier oder Leinwand\, Acryltinte\, Farb-/Kreidemarker\, Gelstift in Weiß\, Bleistift\, Acrylmarker\, Brushpen\, Aquapastels\, Gesso\, Matte Medium\, Bunststifte\, Schaumwalze\, Pinsel\, Acrylfarben\, Papierschnipsel\, Dinge zum Stempeln\, alte EC-Karte\, Fön\, Schere\, Sprühflasche\, Mal-Lappen\, Farbpalette \nKonkrete Beispiele\, Abmessungen und diverse Alternativen halten wir in der Download-Datei „Materialliste Mixed Media Faces“ für Sie bereit. (Siehe Dokumente.) \nAnmeldungen direkt über www.kvhs-duew.de
URL:https://offene-werkstatt.org/event/online-kurs-mixed-media-faces/
CATEGORIES:Erwachsene,Malen - Zeichnen - Drucken,Tanz - Theater - Schreiben
ATTACH;FMTTYPE=image/jpeg:https://offene-werkstatt.org/wp-content/uploads/2025/10/Brucker-Sylvia_Mixed-Media-11-scaled.jpeg
END:VEVENT
BEGIN:VEVENT
DTSTART;TZID=Europe/Berlin:20260421T180000
DTEND;TZID=Europe/Berlin:20260421T210000
DTSTAMP:20260421T120314
CREATED:20251208T140128Z
LAST-MODIFIED:20251208T140128Z
UID:11916-1776794400-1776805200@offene-werkstatt.org
SUMMARY:Buch-Falt-Kunst
DESCRIPTION:für Anfänger:innen \nAlte Bücher werden zu neuem Leben erweckt mit Hilfe von geknickten Eselsohren\, bei denen alle Bücherfans Schnappatmung bekämen\, wären die Ergebnisse nicht ein echter Hingucker. Auf den ersten Blick erscheint das schwierig\, aber gemeinsam erlernen wir verschiedene Techniken\, mit denen es fast unendliche Möglichkeiten gibt\, Schriftzüge\, Namen oder Silhouetten in die Sichtkante eines Buches zu falten. Dabei arbeiten wir mit einer Tabellen- bzw. Messvorlage – für einfache Objekte auch ohne Vorlage\, ähnlich wie beim Origami. Mit ein bisschen Geduld und Konzentration erschaffen wir kleine Wunder! \nBitte mitbringen: Buch (Hardcover (min. 400 Seiten) und/oder Taschenbuch (300-350 Seiten)\, jeweils Höhe 21cm)\, Bleistift\, Radiergummi\, Lineal\, Geodreieck groß\, Prägestift oder Häkelnadel\, Falzbein oder Plektrum\, Schere\, Klebestift \nAlle notwendigen Utensilien können bei Bedarf erworben werden.
URL:https://offene-werkstatt.org/event/buch-falt-kunst-4/
CATEGORIES:Buchbinden - Papierarbeiten,Erwachsene
ATTACH;FMTTYPE=image/jpeg:https://offene-werkstatt.org/wp-content/uploads/2025/11/ying-und-yang-2-scaled.jpg
END:VEVENT
END:VCALENDAR